BEGIN:VCALENDAR
VERSION:2.0
PRODID:-//Armidale Region - ECPv6.15.20//NONSGML v1.0//EN
CALSCALE:GREGORIAN
METHOD:PUBLISH
X-ORIGINAL-URL:https://www.visitarmidale.com.au
X-WR-CALDESC:Events for Armidale Region
REFRESH-INTERVAL;VALUE=DURATION:PT1H
X-Robots-Tag:noindex
X-PUBLISHED-TTL:PT1H
BEGIN:VTIMEZONE
TZID:Australia/Sydney
BEGIN:STANDARD
TZOFFSETFROM:+1100
TZOFFSETTO:+1000
TZNAME:AEST
DTSTART:20250405T160000
END:STANDARD
BEGIN:DAYLIGHT
TZOFFSETFROM:+1000
TZOFFSETTO:+1100
TZNAME:AEDT
DTSTART:20251004T160000
END:DAYLIGHT
BEGIN:STANDARD
TZOFFSETFROM:+1100
TZOFFSETTO:+1000
TZNAME:AEST
DTSTART:20260404T160000
END:STANDARD
BEGIN:DAYLIGHT
TZOFFSETFROM:+1000
TZOFFSETTO:+1100
TZNAME:AEDT
DTSTART:20261003T160000
END:DAYLIGHT
BEGIN:STANDARD
TZOFFSETFROM:+1100
TZOFFSETTO:+1000
TZNAME:AEST
DTSTART:20270403T160000
END:STANDARD
BEGIN:DAYLIGHT
TZOFFSETFROM:+1000
TZOFFSETTO:+1100
TZNAME:AEDT
DTSTART:20271002T160000
END:DAYLIGHT
END:VTIMEZONE
BEGIN:VEVENT
DTSTART;TZID=Australia/Sydney:20260322T090000
DTEND;TZID=Australia/Sydney:20260322T150000
DTSTAMP:20260420T181210
CREATED:20260129T034543Z
LAST-MODIFIED:20260212T075840Z
UID:10012188-1774170000-1774191600@www.visitarmidale.com.au
SUMMARY:Quilting & Needlework Exhibition
DESCRIPTION:Come along and view some gorgeous quilts and needlework and possibly meet the clever people behind these amazing exhibits. Quilt Raffle proceeds to Westpac Rescue Helicopter. Tea\, coffee\, sandwiches and slice available at nominal charge.
URL:https://www.visitarmidale.com.au/event/quilting-needlework-exhibition/2026-03-22
LOCATION:Legacy House\, 89 Faulkner Street\, ARMDALE\, NSW\, 2350\, Australia
ATTACH;FMTTYPE=image/jpeg:https://www.visitarmidale.com.au/content/uploads/2022/03/Quilting2.jpg
END:VEVENT
END:VCALENDAR