BEGIN:VCALENDAR
VERSION:2.0
PRODID:-//Armidale Region - ECPv6.15.20//NONSGML v1.0//EN
CALSCALE:GREGORIAN
METHOD:PUBLISH
X-WR-CALNAME:Armidale Region
X-ORIGINAL-URL:https://www.visitarmidale.com.au
X-WR-CALDESC:Events for Armidale Region
REFRESH-INTERVAL;VALUE=DURATION:PT1H
X-Robots-Tag:noindex
X-PUBLISHED-TTL:PT1H
BEGIN:VTIMEZONE
TZID:Australia/Sydney
BEGIN:STANDARD
TZOFFSETFROM:+1100
TZOFFSETTO:+1000
TZNAME:AEST
DTSTART:20250405T160000
END:STANDARD
BEGIN:DAYLIGHT
TZOFFSETFROM:+1000
TZOFFSETTO:+1100
TZNAME:AEDT
DTSTART:20251004T160000
END:DAYLIGHT
BEGIN:STANDARD
TZOFFSETFROM:+1100
TZOFFSETTO:+1000
TZNAME:AEST
DTSTART:20260404T160000
END:STANDARD
BEGIN:DAYLIGHT
TZOFFSETFROM:+1000
TZOFFSETTO:+1100
TZNAME:AEDT
DTSTART:20261003T160000
END:DAYLIGHT
BEGIN:STANDARD
TZOFFSETFROM:+1100
TZOFFSETTO:+1000
TZNAME:AEST
DTSTART:20270403T160000
END:STANDARD
BEGIN:DAYLIGHT
TZOFFSETFROM:+1000
TZOFFSETTO:+1100
TZNAME:AEDT
DTSTART:20271002T160000
END:DAYLIGHT
END:VTIMEZONE
BEGIN:VEVENT
DTSTART;TZID=Australia/Sydney:20260329T100000
DTEND;TZID=Australia/Sydney:20260329T170000
DTSTAMP:20260423T195716
CREATED:20250723T063903Z
LAST-MODIFIED:20260325T063354Z
UID:10012652-1774778400-1774803600@www.visitarmidale.com.au
SUMMARY:Armidale & New England Cat Club Show
DESCRIPTION:Armidale and New England Cat Club\, affiliated with Cats NSW Inc.\, is holding a combined Pedigree and Companion Cat Show. It will be a six (6) Ring Australian Open-style Judging\, plus a Ragdoll and Russian Specialty Rings to be judged on Saturday. \nPublic is very welcome.
URL:https://www.visitarmidale.com.au/event/armidale-new-england-cat-club-show-2/2026-03-29
LOCATION:Armidale Ex-services Memorial Club\, 137 Dumaresq Street\, ARMIDALE\, NSW\, 2350\, Australia
ATTACH;FMTTYPE=image/jpeg:https://www.visitarmidale.com.au/content/uploads/2022/05/show-cat.jpg
ORGANIZER;CN="Armidale & New England Cat Club":MAILTO:lyn_keevers@bigpond.com
END:VEVENT
END:VCALENDAR