BEGIN:VCALENDAR
VERSION:2.0
PRODID:-//Armidale Region - ECPv6.15.20//NONSGML v1.0//EN
CALSCALE:GREGORIAN
METHOD:PUBLISH
X-ORIGINAL-URL:https://www.visitarmidale.com.au
X-WR-CALDESC:Events for Armidale Region
REFRESH-INTERVAL;VALUE=DURATION:PT1H
X-Robots-Tag:noindex
X-PUBLISHED-TTL:PT1H
BEGIN:VTIMEZONE
TZID:Australia/Sydney
BEGIN:STANDARD
TZOFFSETFROM:+1100
TZOFFSETTO:+1000
TZNAME:AEST
DTSTART:20250405T160000
END:STANDARD
BEGIN:DAYLIGHT
TZOFFSETFROM:+1000
TZOFFSETTO:+1100
TZNAME:AEDT
DTSTART:20251004T160000
END:DAYLIGHT
BEGIN:STANDARD
TZOFFSETFROM:+1100
TZOFFSETTO:+1000
TZNAME:AEST
DTSTART:20260404T160000
END:STANDARD
BEGIN:DAYLIGHT
TZOFFSETFROM:+1000
TZOFFSETTO:+1100
TZNAME:AEDT
DTSTART:20261003T160000
END:DAYLIGHT
BEGIN:STANDARD
TZOFFSETFROM:+1100
TZOFFSETTO:+1000
TZNAME:AEST
DTSTART:20270403T160000
END:STANDARD
BEGIN:DAYLIGHT
TZOFFSETFROM:+1000
TZOFFSETTO:+1100
TZNAME:AEDT
DTSTART:20271002T160000
END:DAYLIGHT
END:VTIMEZONE
BEGIN:VEVENT
DTSTART;TZID=Australia/Sydney:20260214T080000
DTEND;TZID=Australia/Sydney:20260214T170000
DTSTAMP:20260423T184051
CREATED:20260214T044312Z
LAST-MODIFIED:20260214T044312Z
UID:10012423-1771056000-1771088400@www.visitarmidale.com.au
SUMMARY:Family Fun Day
DESCRIPTION:Armidale City Westside Football Club is hosting a family fun day at Dumaresq Dam. Friendly seniors versus juniors game and catch up before the craziness begins. Please bring your picnic blanket\, snacks\, drinks\, hat and sunscreen!! Sausage sizzle provided. \nPlease note that is an alcohol free event.
URL:https://www.visitarmidale.com.au/event/family-fun-day
LOCATION:Dumaresq Dam Reserve\, Dumaresq Dam Road (right off Boorolong Road)\, ARMIDALE\, NSW\, 2350\, Australia
ATTACH;FMTTYPE=image/jpeg:https://www.visitarmidale.com.au/content/uploads/2026/02/Picnic-area.jpg
ORGANIZER;CN="Armidale City Westside Football Club":MAILTO:armidalecitywestside@gmail.com
END:VEVENT
END:VCALENDAR